Workbook

Sheet Team Dashboard
A1: [TEAM NAME] | TEAM PERFORMANCE TRENDS
A2: Graph-based dashboard. Staff can interpret trends from raw metrics, deltas, and charts. Settings, wellness, S&C, and stop-light logic removed.
A4: Team Snapshot | B4: Value | C4: Metric | D4: Value | E4: Metric | F4: Value | G4: Metric | H4: Value
A5: Active Athletes | B5: =COUNTIF(Roster!$G$5:$G$500,"Yes") -> 15 | C5: Avg CMJ Δ% | D5: =AVERAGEIF(Calc_Latest!$A$5:$A$34,"<>",Calc_Latest!$E$5:$E$34) -> 0.074069873 | E5: Avg 10yd Δ% | F5: =AVERAGEIF(Calc_Latest!$A$5:$A$34,"<>",Calc_Latest!$M$5:$M$34) -> 0.0037488239 | G5: Avg FMS | H5: =AVERAGEIF(Calc_Latest!$A$5:$A$34,"<>",Calc_Latest!$U$5:$U$34) -> 16.533333
A6: Avg Body Mass Δ | B6: =AVERAGEIF(Calc_Latest!$A$5:$A$34,"<>",Calc_Latest!$P$5:$P$34) -> 2.66 | C6: Avg Lean Mass Δ | D6: =AVERAGEIF(Calc_Latest!$A$5:$A$34,"<>",Calc_Latest!$R$5:$R$34) -> 4.46 | E6: Avg Body Fat % | F6: =AVERAGEIF(Calc_Latest!$A$5:$A$34,"<>",Calc_Latest!$S$5:$S$34) -> 0.1202 | G6: Avg Asymmetry % | H6: =AVERAGEIF(Calc_Latest!$A$5:$A$34,"<>",Calc_Latest!$I$5:$I$34) -> 0.097533333
A7: Latest Team CMJ | B7: =AVERAGEIF(Calc_Latest!$A$5:$A$34,"<>",Calc_Latest!$C$5:$C$34) -> 25.366667 | C7: Best Team CMJ | D7: =AVERAGEIF(Calc_Latest!$A$5:$A$34,"<>",Calc_Latest!$F$5:$F$34) -> 27.233333 | E7: Latest 10yd | F7: =AVERAGEIF(Calc_Latest!$A$5:$A$34,"<>",Calc_Latest!$K$5:$K$34) -> 1.6626667 | G7: Best 10yd | H7: =AVERAGEIF(Calc_Latest!$A$5:$A$34,"<>",Calc_Latest!$N$5:$N$34) -> 1.5826667
A10: Athlete | B10: Pos | C10: Latest CMJ | D10: Baseline CMJ | E10: CMJ Δ% | F10: Best CMJ | G10: Latest Peak Power | H10: Latest RSI | I10: Latest Asym % | J10: Latest 5 yd | K10: Latest 10 yd | L10: Baseline 10 yd | M10: 10 yd Δ% | N10: Best 10 yd | O10: Latest Body Mass | P10: Body Mass Δ | Q10: Latest Lean Mass | R10: Lean Mass Δ | S10: Body Fat % | T10: Latest SMM | U10: FMS Total | V10: Pain? | W10: FMS Asym?
A11: =Calc_Latest!A5 -> Player 01 | B11: =Calc_Latest!B5 -> PG | C11: =Calc_Latest!C5 -> 25.6 | D11: =Calc_Latest!D5 -> 25.6 | E11: =Calc_Latest!E5 -> 0 | F11: =Calc_Latest!F5 -> 27.3 | G11: =Calc_Latest!G5 -> 57.9 | H11: =Calc_Latest!H5 -> 0.32 | ... W11: =Calc_Latest!W5 -> No
A12: =Calc_Latest!A6 -> Player 02 | B12: =Calc_Latest!B6 -> SG | C12: =Calc_Latest!C6 -> 22.1 | D12: =Calc_Latest!D6 -> 26.2 | E12: =Calc_Latest!E6 -> -0.15648855 | F12: =Calc_Latest!F6 -> 27.7 | G12: =Calc_Latest!G6 -> 61.4 | H12: =Calc_Latest!H6 -> 0.39 | ... W12: =Calc_Latest!W6 -> No
A13: =Calc_Latest!A7 -> Player 03 | B13: =Calc_Latest!B7 -> SF | C13: =Calc_Latest!C7 -> 24.4 | D13: =Calc_Latest!D7 -> 23.5 | E13: =Calc_Latest!E7 -> 0.038297872 | F13: =Calc_Latest!F7 -> 24.6 | G13: =Calc_Latest!G7 -> 59.1 | H13: =Calc_Latest!H7 -> 0.35 | ... W13: =Calc_Latest!W7 -> No
A14: =Calc_Latest!A8 -> Player 04 | B14: =Calc_Latest!B8 -> PF | C14: =Calc_Latest!C8 -> 28.7 | D14: =Calc_Latest!D8 -> 23.6 | E14: =Calc_Latest!E8 -> 0.21610169 | F14: =Calc_Latest!F8 -> 28.7 | G14: =Calc_Latest!G8 -> 48.3 | H14: =Calc_Latest!H8 -> 0.47 | ... W14: =Calc_Latest!W8 -> Yes
A15: =Calc_Latest!A9 -> Player 05 | B15: =Calc_Latest!B9 -> C | C15: =Calc_Latest!C9 -> 29.8 | D15: =Calc_Latest!D9 -> 22.6 | E15: =Calc_Latest!E9 -> 0.31858407 | F15: =Calc_Latest!F9 -> 29.8 | G15: =Calc_Latest!G9 -> 54.9 | H15: =Calc_Latest!H9 -> 0.37 | ... W15: =Calc_Latest!W9 -> No
A16: =Calc_Latest!A10 -> Player 06 | B16: =Calc_Latest!B10 -> PG | C16: =Calc_Latest!C10 -> 25 | D16: =Calc_Latest!D10 -> 27.3 | E16: =Calc_Latest!E10 -> -0.084249084 | F16: =Calc_Latest!F10 -> 27.3 | G16: =Calc_Latest!G10 -> 55.5 | H16: =Calc_Latest!H10 -> 0.36 | ... W16: =Calc_Latest!W10 -> No
A17: =Calc_Latest!A11 -> Player 07 | B17: =Calc_Latest!B11 -> SG | C17: =Calc_Latest!C11 -> 25.5 | D17: =Calc_Latest!D11 -> 23.1 | E17: =Calc_Latest!E11 -> 0.1038961 | F17: =Calc_Latest!F11 -> 25.5 | G17: =Calc_Latest!G11 -> 49.8 | H17: =Calc_Latest!H11 -> 0.39 | ... W17: =Calc_Latest!W11 -> No
A18: =Calc_Latest!A12 -> Player 08 | B18: =Calc_Latest!B12 -> SF | C18: =Calc_Latest!C12 -> 19 | D18: =Calc_Latest!D12 -> 22.6 | E18: =Calc_Latest!E12 -> -0.15929204 | F18: =Calc_Latest!F12 -> 26.5 | G18: =Calc_Latest!G12 -> 57.5 | H18: =Calc_Latest!H12 -> 0.43 | ... W18: =Calc_Latest!W12 -> No
A19: =Calc_Latest!A13 -> Player 09 | B19: =Calc_Latest!B13 -> PF | C19: =Calc_Latest!C13 -> 26.8 | D19: =Calc_Latest!D13 -> 25.1 | E19: =Calc_Latest!E13 -> 0.067729084 | F19: =Calc_Latest!F13 -> 26.8 | G19: =Calc_Latest!G13 -> 53.7 | H19: =Calc_Latest!H13 -> 0.44 | ... W19: =Calc_Latest!W13 -> No
A20: =Calc_Latest!A14 -> Player 10 | B20: =Calc_Latest!B14 -> C | C20: =Calc_Latest!C14 -> 20.4 | D20: =Calc_Latest!D14 -> 23.8 | E20: =Calc_Latest!E14 -> -0.14285714 | F20: =Calc_Latest!F14 -> 26 | G20: =Calc_Latest!G14 -> 58.2 | H20: =Calc_Latest!H14 -> 0.32 | ... W20: =Calc_Latest!W14 -> Yes
A21: =Calc_Latest!A15 -> Player 11 | B21: =Calc_Latest!B15 -> PG | C21: =Calc_Latest!C15 -> 29.6 | D21: =Calc_Latest!D15 -> 20.1 | E21: =Calc_Latest!E15 -> 0.47263682 | F21: =Calc_Latest!F15 -> 29.6 | G21: =Calc_Latest!G15 -> 54.1 | H21: =Calc_Latest!H15 -> 0.39 | ... W21: =Calc_Latest!W15 -> No
A22: =Calc_Latest!A16 -> Player 12 | B22: =Calc_Latest!B16 -> SG | C22: =Calc_Latest!C16 -> 22.9 | D22: =Calc_Latest!D16 -> 26 | E22: =Calc_Latest!E16 -> -0.11923077 | F22: =Calc_Latest!F16 -> 27 | G22: =Calc_Latest!G16 -> 48.6 | H22: =Calc_Latest!H16 -> 0.44 | ... W22: =Calc_Latest!W16 -> No
... A40: =Calc_Latest!A34 | B40: =Calc_Latest!B34 | C40: =Calc_Latest!C34 | D40: =Calc_Latest!D34 | E40: =Calc_Latest!E34 | F40: =Calc_Latest!F34 | G40: =Calc_Latest!G34 | H40: =Calc_Latest!H34 | ... W40: =Calc_Latest!W34

Sheet Athlete Profile
A1: [TEAM NAME] | ATHLETE PROFILE
A2: Graph-based player page. Select an athlete below; profile tables and charts update from live data sheets. No stop-light conclusions included.
A4: Select Athlete | B4: Player 05
A6: Athlete | B6: Position | C6: Class | D6: Height | E6: Roster Wt | F6: Latest Wt | G6: Body Fat % | H6: FMS Total
A7: =$B$4 -> Player 05 | B7: =IFERROR(INDEX(Roster!$C$5:$C$500,MATCH($B$4,Roster!$B$5:$B$500,0)),"") -> C | C7: =IFERROR(INDEX(Roster!$D$5:$D$500,MATCH($B$4,Roster!$B$5:$B$500,0)),"") -> GR | D7: =IFERROR(INDEX(Roster!$E$5:$E$500,MATCH($B$4,Roster!$B$5:$B$500,0)),"") -> 75 | E7: =IFERROR(INDEX(Roster!$F$5:$F$500,MATCH($B$4,Roster!$B$5:$B$500,0)),"") -> 228 | F7: =IFERROR(INDEX(Calc_Latest!$O$5:$O$34,MATCH($B$4,Calc_Latest!$A$5:$A$34,0)),"") -> 232.2 | G7: =IFERROR(INDEX(Calc_Latest!$S$5:$S$34,MATCH($B$4,Calc_Latest!$A$5:$A$34,0)),"") -> 0.125 | H7: =IFERROR(INDEX(Calc_Latest!$U$5:$U$34,MATCH($B$4,Calc_Latest!$A$5:$A$34,0)),"") -> 16
A10: Performance Snapshot | B10: Current | C10: Baseline | D10: Change | E10: Staff Notes
A11: CMJ Height (in) | B11: =IFERROR(INDEX(Calc_Latest!$C$5:$C$34,MATCH($B$4,Calc_Latest!$A$5:$A$34,0)),"") -> 29.8 | C11: =IFERROR(INDEX('Force Plate'!$D$5:$D$500,MATCH($B$4,'Force Plate'!$B$5:$B$500,0)),"") -> 22.6 | D11: =IFERROR((B11-C11)/C11,"") -> 0.31858407
A12: Peak Power (W/kg) | B12: =IFERROR(INDEX(Calc_Latest!$G$5:$G$34,MATCH($B$4,Calc_Latest!$A$5:$A$34,0)),"") -> 54.9 | C12: =IFERROR(INDEX('Force Plate'!$E$5:$E$500,MATCH($B$4,'Force Plate'!$B$5:$B$500,0)),"") -> 51.8 | D12: =IFERROR((B12-C12)/C12,"") -> 0.05984556
A13: RSI-Mod | B13: =IFERROR(INDEX(Calc_Latest!$H$5:$H$34,MATCH($B$4,Calc_Latest!$A$5:$A$34,0)),"") -> 0.37 | C13: =IFERROR(INDEX('Force Plate'!$F$5:$F$500,MATCH($B$4,'Force Plate'!$B$5:$B$500,0)),"") -> 0.39 | D13: =IFERROR((B13-C13)/C13,"") -> -0.051282051
A14: Asymmetry % | B14: =IFERROR(INDEX(Calc_Latest!$I$5:$I$34,MATCH($B$4,Calc_Latest!$A$5:$A$34,0)),"") -> 0.138 | C14: =IFERROR(INDEX('Force Plate'!$I$5:$I$500,MATCH($B$4,'Force Plate'!$B$5:$B$500,0)),"") -> 0.042 | D14: =IFERROR(B14-C14,"") -> 0.096
A15: 10 yd (s) | B15: =IFERROR(INDEX(Calc_Latest!$K$5:$K$34,MATCH($B$4,Calc_Latest!$A$5:$A$34,0)),"") -> 1.62 | C15: =IFERROR(INDEX('Timing Gates'!$D$5:$D$500,MATCH($B$4,'Timing Gates'!$B$5:$B$500,0)),"") -> 1.83 | D15: =IFERROR((B15-C15)/C15,"") -> -0.1147541
A16: Body Mass (lb) | B16: =IFERROR(INDEX(Calc_Latest!$O$5:$O$34,MATCH($B$4,Calc_Latest!$A$5:$A$34,0)),"") -> 232.2 | C16: =IFERROR(INDEX(InBody!$C$5:$C$500,MATCH($B$4,InBody!$B$5:$B$500,0)),"") -> 228.3 | D16: =IFERROR(B16-C16,"") -> 3.9
A17: Lean Mass (lb) | B17: =IFERROR(INDEX(Calc_Latest!$Q$5:$Q$34,MATCH($B$4,Calc_Latest!$A$5:$A$34,0)),"") -> 202.3 | C17: =IFERROR(INDEX(InBody!$E$5:$E$500,MATCH($B$4,InBody!$B$5:$B$500,0)),"") -> 187.6 | D17: =IFERROR(B17-C17,"") -> 14.7
A18: FMS Total | B18: =IFERROR(INDEX(Calc_Latest!$U$5:$U$34,MATCH($B$4,Calc_Latest!$A$5:$A$34,0)),"") -> 16 | C18: =IFERROR(INDEX(FMS!$K$5:$K$500,MATCH($B$4,FMS!$B$5:$B$500,0)),"") -> 16 | D18: =IFERROR(B18-C18,"") -> 0
A21: Force Plate Trend Data | B21: Date | C21: CMJ | D21: Peak Power | E21: RSI-Mod | F21: Asymmetry %
A22: =ROW()-21 -> 1 | B22: =Chart_Data!A6 -> 46037 | C22: =Chart_Data!B6 -> 22.6 | D22: =Chart_Data!C6 -> 51.8 | E22: =Chart_Data!D6 -> 0.39 | F22: =Chart_Data!G6 -> 0.042
A23: =ROW()-21 -> 2 | B23: =Chart_Data!A7 -> 46067 | C23: =Chart_Data!B7 -> 27.4 | D23: =Chart_Data!C7 -> 54.7 | E23: =Chart_Data!D7 -> 0.38 | F23: =Chart_Data!G7 -> 0.089
A24: =ROW()-21 -> 3 | B24: =Chart_Data!A8 -> 46097 | C24: =Chart_Data!B8 -> 22.3 | D24: =Chart_Data!C8 -> 50.8 | E24: =Chart_Data!D8 -> 0.38 | F24: =Chart_Data!G8 -> 0.063
A25: =ROW()-21 -> 4 | B25: =Chart_Data!A9 -> 46127 | C25: =Chart_Data!B9 -> 29.8 | D25: =Chart_Data!C9 -> 54.9 | E25: =Chart_Data!D9 -> 0.37 | F25: =Chart_Data!G9 -> 0.138
A26: =ROW()-21 -> 5 | B26: =Chart_Data!A10 | C26: =Chart_Data!B10 | D26: =Chart_Data!C10 | E26: =Chart_Data!D10 | F26: =Chart_Data!G10
A27: =ROW()-21 -> 6 | B27: =Chart_Data!A11 | C27: =Chart_Data!B11 | D27: =Chart_Data!C11 | E27: =Chart_Data!D11 | F27: =Chart_Data!G11
A28: =ROW()-21 -> 7 | B28: =Chart_Data!A12 | C28: =Chart_Data!B12 | D28: =Chart_Data!C12 | E28: =Chart_Data!D12 | F28: =Chart_Data!G12
A29: =ROW()-21 -> 8 | B29: =Chart_Data!A13 | C29: =Chart_Data!B13 | D29: =Chart_Data!C13 | E29: =Chart_Data!D13 | F29: =Chart_Data!G13
A30: =ROW()-21 -> 9 | B30: =Chart_Data!A14 | C30: =Chart_Data!B14 | D30: =Chart_Data!C14 | E30: =Chart_Data!D14 | F30: =Chart_Data!G14
A31: =ROW()-21 -> 10 | B31: =Chart_Data!A15 | C31: =Chart_Data!B15 | D31: =Chart_Data!C15 | E31: =Chart_Data!D15 | F31: =Chart_Data!G15
A34: Speed Trend Data | B34: Date | C34: 5 yd | D34: 10 yd | E34: 20 yd | F34: Flying 10
A35: =ROW()-34 -> 1 | B35: =Chart_Data!K6 -> 46037 | C35: =Chart_Data!L6 -> 1.06 | D35: =Chart_Data!M6 -> 1.83 | E35: =Chart_Data!N6 -> 3.12 | F35: =Chart_Data!O6 -> 1.09
A36: =ROW()-34 -> 2 | B36: =Chart_Data!K7 -> 46067 | C36: =Chart_Data!L7 -> 0.96 | D36: =Chart_Data!M7 -> 1.65 | E36: =Chart_Data!N7 -> 3.23 | F36: =Chart_Data!O7 -> 1.09
A37: =ROW()-34 -> 3 | B37: =Chart_Data!K8 -> 46097 | C37: =Chart_Data!L8 -> 1 | D37: =Chart_Data!M8 -> 1.72 | E37: =Chart_Data!N8 -> 3.13 | F37: =Chart_Data!O8 -> 1.18
A38: =ROW()-34 -> 4 | B38: =Chart_Data!K9 -> 46127 | C38: =Chart_Data!L9 -> 0.94 | D38: =Chart_Data!M9 -> 1.62 | E38: =Chart_Data!N9 -> 2.88 | F38: =Chart_Data!O9 -> 1.12
A39: =ROW()-34 -> 5 | B39: =Chart_Data!K10 | C39: =Chart_Data!L10 | D39: =Chart_Data!M10 | E39: =Chart_Data!N10 | F39: =Chart_Data!O10
A40: =ROW()-34 -> 6 | B40: =Chart_Data!K11 | C40: =Chart_Data!L11 | D40: =Chart_Data!M11 | E40: =Chart_Data!N11 | F40: =Chart_Data!O11
A41: =ROW()-34 -> 7 | B41: =Chart_Data!K12 | C41: =Chart_Data!L12 | D41: =Chart_Data!M12 | E41: =Chart_Data!N12 | F41: =Chart_Data!O12
A42: =ROW()-34 -> 8 | B42: =Chart_Data!K13 | C42: =Chart_Data!L13 | D42: =Chart_Data!M13 | E42: =Chart_Data!N13 | F42: =Chart_Data!O13
A43: =ROW()-34 -> 9 | B43: =Chart_Data!K14 | C43: =Chart_Data!L14 | D43: =Chart_Data!M14 | E43: =Chart_Data!N14 | F43: =Chart_Data!O14
A44: =ROW()-34 -> 10 | B44: =Chart_Data!K15 | C44: =Chart_Data!L15 | D44: =Chart_Data!M15 | E44: =Chart_Data!N15 | F44: =Chart_Data!O15
A47: Body Composition Trend Data | B47: Date | C47: Body Mass | D47: SMM | E47: Lean Mass | F47: Body Fat %
A48: =ROW()-47 -> 1 | B48: =Chart_Data!S6 -> 46037 | C48: =Chart_Data!T6 -> 228.3 | D48: =Chart_Data!U6 -> 113.9 | E48: =Chart_Data!V6 -> 187.6 | F48: =Chart_Data!W6 -> 0.147
A49: =ROW()-47 -> 2 | B49: =Chart_Data!S7 -> 46067 | C49: =Chart_Data!T7 -> 226.6 | D49: =Chart_Data!U7 -> 111.3 | E49: =Chart_Data!V7 -> 184.3 | F49: =Chart_Data!W7 -> 0.112
A50: =ROW()-47 -> 3 | B50: =Chart_Data!S8 -> 46097 | C50: =Chart_Data!T8 -> 232.8 | D50: =Chart_Data!U8 -> 99.4 | E50: =Chart_Data!V8 -> 202.7 | F50: =Chart_Data!W8 -> 0.132
...

Sheet Roster
A1: [TEAM NAME] Roster
A2: Edit athlete names here. Athlete Profile dropdown and all formulas reference this roster.
A4: Athlete ID | B4: Athlete | C4: Position | D4: Class | E4: Height (in) | F4: Weight (lb) | G4: Active? | H4: Notes
A5: UIW01 | B5: Player 01 | C5: PG | D5: FR | E5: 77 | F5: 220 | G5: Yes | H5: Team leader
A6: UIW02 | B6: Player 02 | C6: SG | D6: SO | E6: 80 | F6: 205 | G6: Yes | H6: Needs academic check-in
A7: UIW03 | B7: Player 03 | C7: SF | D7: JR | E7: 82 | F7: 175 | G7: Yes | H7: Returning starter
A8: UIW04 | B8: Player 04 | C8: PF | D8: SR | E8: 78 | F8: 190 | G8: Yes | H8: New transfer
A9: UIW05 | B9: Player 05 | C9: C | D9: GR | E9: 75 | F9: 228 | G9: Yes | H9: Freshman development focus
A10: UIW06 | B10: Player 06 | C10: PG | D10: FR | E10: 76 | F10: 212 | G10: Yes | H10: Minutes expected to increase
A11: UIW07 | B11: Player 07 | C11: SG | D11: SO | E11: 81 | F11: 205 | G11: Yes | H11: Primary ball handler
A12: UIW08 | B12: Player 08 | C12: SF | D12: JR | E12: 81 | F12: 198 | G12: Yes | H12: Wing depth piece
A13: UIW09 | B13: Player 09 | C13: PF | D13: SR | E13: 75 | F13: 228 | G13: Yes | H13: Frontcourt rotation
A14: UIW10 | B14: Player 10 | C14: C | D14: GR | E14: 75 | F14: 212 | G14: Yes | H14: High upside athlete
A15: UIW11 | B15: Player 11 | C15: PG | D15: FR | E15: 80 | F15: 190 | G15: Yes | H15: Needs consistency
A16: UIW12 | B16: Player 12 | C16: SG | D16: SO | E16: 72 | F16: 182 | G16: Yes | H16: Strong practice habits
... A19: UIW15 | B19: Player 15 | C19: C | D19: GR | E19: 77 | F19: 205 | G19: Yes | H19: Developmental redshirt candidate

Sheet Force Plate
A1: Force Plate Data Entry
A2: Add CMJ / force plate results below. Keep athlete names consistent with Roster.
A4: Date | B4: Athlete | C4: Test | D4: CMJ Height (in) | E4: Peak Power (W/kg) | F4: RSI-Mod | G4: Braking Impulse | H4: Concentric Impulse | I4: Asymmetry % | J4: Notes
A5: 46037 | B5: Player 01 | C5: CMJ | D5: 25.6 | E5: 50.1 | F5: 0.35 | G5: 204.9 | H5: 255.8 | I5: 0.101 | J5: Needs work
A6: 46067 | B6: Player 01 | C6: CMJ | D6: 26.6 | E6: 50.7 | F6: 0.47 | G6: 222.8 | H6: 293 | I6: 0.116 | J6: Good pop today
A7: 46097 | B7: Player 01 | C7: CMJ | D7: 27.3 | E7: 53.7 | F7: 0.4 | G7: 211.9 | H7: 274 | I7: 0.122 | J7: Low jump output
A8: 46127 | B8: Player 01 | C8: CMJ | D8: 25.6 | E8: 57.9 | F8: 0.32 | G8: 182.3 | H8: 217.6 | I8: 0.124 | J8: Strong concentric drive
A9: 46037 | B9: Player 02 | C9: CMJ | D9: 26.2 | E9: 54.9 | F9: 0.47 | G9: 256.6 | H9: 235.5 | I9: 0.021 | J9: Monitor asymmetry
A10: 46067 | B10: Player 02 | C10: CMJ | D10: 26.8 | E10: 59.7 | F10: 0.44 | G10: 251.8 | H10: 281.3 | I10: 0.099 | J10: Explosive session
A11: 46097 | B11: Player 02 | C11: CMJ | D11: 27.7 | E11: 58.7 | F11: 0.36 | G11: 237.9 | H11: 297 | I11: 0.062 | J11: Below normal output
A12: 46127 | B12: Player 02 | C12: CMJ | D12: 22.1 | E12: 61.4 | F12: 0.39 | G12: 246.7 | H12: 232.7 | I12: 0.094 | J12: Good landing control
A13: 46037 | B13: Player 03 | C13: CMJ | D13: 23.5 | E13: 57 | F13: 0.47 | G13: 218.9 | H13: 269.3 | I13: 0.051 | J13: Eccentric control improving
A14: 46067 | B14: Player 03 | C14: CMJ | D14: 20.2 | E14: 53.5 | F14: 0.42 | G14: 230.3 | H14: 251.4 | I14: 0.04 | J14: RSI looked solid
A15: 46097 | B15: Player 03 | C15: CMJ | D15: 24.6 | E15: 48.6 | F15: 0.37 | G15: 238.9 | H15: 273.6 | I15: 0.132 | J15: Heavy legs today
A16: 46127 | B16: Player 03 | C16: CMJ | D16: 24.4 | E16: 59.1 | F16: 0.35 | G16: 191.7 | H16: 262.4 | I16: 0.046 | J16: Good force production
... A64: 46127 | B64: Player 15 | C64: CMJ | D64: 27.4 | E64: 58.5 | F64: 0.48 | G64: 205.2 | H64: 264.4 | I64: 0.127 | J64: Retest next session

Sheet InBody
A1: InBody Data Entry
A2: Add InBody results below. Body comp charts and latest metrics pull from here.
A4: Date | B4: Athlete | C4: Body Mass (lb) | D4: SMM (lb) | E4: Lean Mass (lb) | F4: Body Fat % | G4: TBW (L) | H4: Notes
A5: 46037 | B5: Player 01 | C5: 221.8 | D5: 104 | E5: 192.1 | F5: 0.094 | G5: 43.9 | H5: Body mass stable
A6: 46067 | B6: Player 01 | C6: 218.5 | D6: 101.5 | E6: 187.7 | F6: 0.15 | G6: 44.5 | H6: Lean mass trending up
A7: 46097 | B7: Player 01 | C7: 222.8 | D7: 99.7 | E7: 177.6 | F7: 0.155 | G7: 48 | H7: Hydration looked good
A8: 46127 | B8: Player 01 | C8: 221.7 | D8: 106.4 | E8: 186.7 | F8: 0.07 | G8: 51.6 | H8: Monitor weight drop
A9: 46037 | B9: Player 02 | C9: 203.2 | D9: 89.8 | E9: 167.3 | F9: 0.138 | G9: 57 | H9: Body comp improving
A10: 46067 | B10: Player 02 | C10: 208 | D10: 95.4 | E10: 177 | F10: 0.154 | G10: 45.7 | H10: SMM up slightly
A11: 46097 | B11: Player 02 | C11: 205.7 | D11: 103 | E11: 172.5 | F11: 0.087 | G11: 54.6 | H11: Body fat trending down
A12: 46127 | B12: Player 02 | C12: 209.6 | D12: 96.1 | E12: 165.7 | F12: 0.15 | G12: 57.3 | H12: Maintain nutrition plan
A13: 46037 | B13: Player 03 | C13: 175.9 | D13: 82.4 | E13: 142.4 | F13: 0.072 | G13: 43.1 | H13: TBW low today
A14: 46067 | B14: Player 03 | C14: 178.1 | D14: 77.5 | E14: 155.6 | F14: 0.116 | G14: 54.6 | H14: Good offseason progress
A15: 46097 | B15: Player 03 | C15: 173.5 | D15: 75.3 | E15: 141.2 | F15: 0.073 | G15: 53.1 | H15: Weight up from baseline
A16: 46127 | B16: Player 03 | C16: 178.5 | D16: 85.5 | E16: 147.6 | F16: 0.119 | G16: 55.5 | H16: Lean mass down slightly
... A64: 46127 | B64: Player 15 | C64: 209.3 | D64: 93.4 | E64: 177.9 | F64: 0.156 | G64: 55.6 | H64: Needs fueling emphasis

Sheet Timing Gates
A1: Timing Gates Data Entry
A2: Add speed results below. Timing gate trend charts pull from here.
A4: Date | B4: Athlete | C4: 5 yd (s) | D4: 10 yd (s) | E4: 20 yd (s) | F4: Flying 10 (s) | G4: 5-10-5 (s) | H4: Notes
A5: 46037 | B5: Player 01 | C5: 0.97 | D5: 1.68 | E5: 2.93 | F5: 0.99 | G5: 4.41 | H5: Good acceleration
A6: 46067 | B6: Player 01 | C6: 0.99 | D6: 1.7 | E6: 3.14 | F6: 1.17 | G6: 4.57 | H6: Slow first step
A7: 46097 | B7: Player 01 | C7: 1.04 | D7: 1.8 | E7: 3.09 | F7: 1.01 | G7: 4.24 | H7: Top speed improved
A8: 46127 | B8: Player 01 | C8: 0.89 | D8: 1.54 | E8: 2.8 | F8: 1.1 | G8: 4.48 | H8: 10 yd looked sharp
A9: 46037 | B9: Player 02 | C9: 0.99 | D9: 1.7 | E9: 3.22 | F9: 1.01 | G9: 4.36 | H9: Retest with full warm-up
A10: 46067 | B10: Player 02 | C10: 0.93 | D10: 1.61 | E10: 2.86 | F10: 1.03 | G10: 4.33 | H10: Good sprint mechanics
A11: 46097 | B11: Player 02 | C11: 0.93 | D11: 1.6 | E11: 2.98 | F11: 1.03 | G11: 4.25 | H11: Start position inconsistent
A12: 46127 | B12: Player 02 | C12: 0.9 | D12: 1.55 | E12: 2.91 | F12: 1.01 | G12: 4.51 | H12: Strong 20 yd time
A13: 46037 | B13: Player 03 | C13: 0.95 | D13: 1.63 | E13: 2.9 | F13: 1.13 | G13: 4.54 | H13: Flying 10 improved
A14: 46067 | B14: Player 03 | C14: 1 | D14: 1.73 | E14: 2.93 | F14: 1.07 | G14: 4.43 | H14: COD looked smooth
A15: 46097 | B15: Player 03 | C15: 1 | D15: 1.72 | E15: 2.89 | F15: 1.14 | G15: 4.26 | H15: Needs better drive phase
A16: 46127 | B16: Player 03 | C16: 0.95 | D16: 1.63 | E16: 3.23 | F16: 1.18 | G16: 4.48 | H16: Acceleration trending up
... A64: 46127 | B64: Player 15 | C64: 0.9 | D64: 1.56 | E64: 3.15 | F64: 1 | G64: 4.15 | H64: Retest next speed day

Sheet FMS
A1: FMS Data Entry
A2: Add movement screen results below. Athlete Profile and team tables pull latest entries.
A4: Date | B4: Athlete | C4: Deep Squat | D4: Hurdle Step | E4: Inline Lunge | F4: Shoulder Mobility | G4: ASLR | H4: Trunk Stability | I4: Rotary Stability | J4: Pain? | K4: Total Score | L4: Asymmetry? | M4: Notes
A5: 46127 | B5: Player 01 | C5: 1 | D5: 2 | E5: 3 | F5: 3 | G5: 3 | H5: 3 | I5: 1 | J5: No | K5: 16 | L5: No | M5: Limited ankle mobility
A6: 46127 | B6: Player 02 | C6: 2 | D6: 3 | E6: 3 | F6: 3 | G6: 2 | H6: 3 | I6: 1 | J6: No | K6: 17 | L6: No | M6: Hip mobility restriction
A7: 46127 | B7: Player 03 | C7: 1 | D7: 3 | E7: 2 | F7: 3 | G7: 3 | H7: 3 | I7: 1 | J7: No | K7: 16 | L7: No | M7: Shoulder mobility asymmetry
A8: 46127 | B8: Player 04 | C8: 1 | D8: 2 | E8: 2 | F8: 3 | G8: 3 | H8: 3 | I8: 2 | J8: Yes | K8: 16 | L8: Yes | M8: Good movement quality
A9: 46127 | B9: Player 05 | C9: 1 | D9: 2 | E9: 3 | F9: 3 | G9: 2 | H9: 3 | I9: 2 | J9: No | K9: 16 | L9: No | M9: Pain reported
A10: 46127 | B10: Player 06 | C10: 1 | D10: 2 | E10: 2 | F10: 3 | G10: 2 | H10: 1 | I10: 3 | J10: No | K10: 14 | L10: No | M10: Needs mobility follow-up
A11: 46127 | B11: Player 07 | C11: 3 | D11: 3 | E11: 2 | F11: 3 | G11: 2 | H11: 1 | I11: 2 | J11: No | K11: 16 | L11: No | M11: Rotary stability limited
A12: 46127 | B12: Player 08 | C12: 2 | D12: 2 | E12: 3 | F12: 3 | G12: 3 | H12: 3 | I12: 3 | J12: No | K12: 19 | L12: No | M12: ASLR improving
A13: 46127 | B13: Player 09 | C13: 2 | D13: 2 | E13: 3 | F13: 3 | G13: 3 | H13: 3 | I13: 1 | J13: No | K13: 17 | L13: No | M13: Deep squat restriction
A14: 46127 | B14: Player 10 | C14: 3 | D14: 2 | E14: 3 | F14: 2 | G14: 3 | H14: 1 | I14: 1 | J14: No | K14: 15 | L14: Yes | M14: Trunk stability solid
A15: 46127 | B15: Player 11 | C15: 2 | D15: 3 | E15: 3 | F15: 2 | G15: 2 | H15: 2 | I15: 3 | J15: No | K15: 17 | L15: No | M15: Monitor knee position
A16: 46127 | B16: Player 12 | C16: 1 | D16: 3 | E16: 3 | F16: 3 | G16: 2 | H16: 3 | I16: 3 | J16: No | K16: 18 | L16: No | M16: Left-right asymmetry
... A19: 46127 | B19: Player 15 | C19: 1 | D19: 3 | E19: 3 | F19: 2 | G19: 2 | H19: 2 | I19: 2 | J19: No | K19: 15 | L19: No | M19: No major concerns

Sheet Calc_Latest
A1: Trend Calculation Layer
A2: This sheet uses only latest/baseline/best calculations that feed dashboards and charts. Staff make conclusions from the trends.
A4: Athlete | B4: Pos | C4: Latest CMJ | D4: Baseline CMJ | E4: CMJ Δ% | F4: Best CMJ | G4: Latest Peak Power | H4: Latest RSI | I4: Latest Asym % | J4: Latest 5 yd | K4: Latest 10 yd | L4: Baseline 10 yd | M4: 10 yd Δ% | N4: Best 10 yd | O4: Latest Body Mass | P4: Body Mass Δ | Q4: Latest Lean Mass | R4: Lean Mass Δ | S4: Body Fat % | T4: Latest SMM | U4: FMS Total | V4: Pain? | W4: FMS Asym?
A5: =IF(Roster!B5="","",Roster!B5) -> Player 01 | B5: =IF($A5="","",IFERROR(INDEX(Roster!$C$5:$C$500,MATCH($A5,Roster!$B$5:$B$500,0)),"")) -> PG | C5: =IF($A5="","",IFERROR(LOOKUP(2,1/('Force Plate'!$B$5:$B$500=$A5),'Force Plate'!$D$5:$D$500),"")) -> 25.6 | D5: =IF($A5="","",IFERROR(INDEX('Force Plate'!$D$5:$D$500,MATCH($A5,'Force Plate'!$B$5:$B$500,0)),"")) -> 25.6 | E5: =IFERROR((C5-D5)/D5,"") -> 0 | F5: =IF($A5="","",IFERROR(_xlfn.MAXIFS('Force Plate'!$D$5:$D$500,'Force Plate'!$B$5:$B$500,$A5),"")) -> 27.3 | G5: =IF($A5="","",IFERROR(LOOKUP(2,1/('Force Plate'!$B$5:$B$500=$A5),'Force Plate'!$E$5:$E$500),"")) -> 57.9 | H5: =IF($A5="","",IFERROR(LOOKUP(2,1/('Force Plate'!$B$5:$B$500=$A5),'Force Plate'!$F$5:$F$500),"")) -> 0.32 | I5: =IF($A5="","",IFERROR(LOOKUP(2,1/('Force Plate'!$B$5:$B$500=$A5),'Force Plate'!$I$5:$I$500),"")) -> 0.124 | J5: =IF($A5="","",IFERROR(LOOKUP(2,1/('Timing Gates'!$B$5:$B$500=$A5),'Timing Gates'!$C$5:$C$500),"")) -> 0.89 | K5: =IF($A5="","",IFERROR(LOOKUP(2,1/('Timing Gates'!$B$5:$B$500=$A5),'Timing Gates'!$D$5:$D$500),"")) -> 1.54 | L5: =IF($A5="","",IFERROR(INDEX('Timing Gates'!$D$5:$D$500,MATCH($A5,'Timing Gates'!$B$5:$B$500,0)),"")) -> 1.68 | M5: =IFERROR((L5-K5)/L5,"") -> 0.083333333 | N5: =IF($A5="","",IFERROR(_xlfn.MINIFS('Timing Gates'!$D$5:$D$500,'Timing Gates'!$B$5:$B$500,$A5),"")) -> 1.54 | O5: =IF($A5="","",IFERROR(LOOKUP(2,1/(InBody!$B$5:$B$500=$A5),InBody!$C$5:$C$500),"")) -> 221.7 | P5: =IF($A5="","",IFERROR(O5-INDEX(InBody!$C$5:$C$500,MATCH($A5,InBody!$B$5:$B$500,0)),"")) -> -0.1 | Q5: =IF($A5="","",IFERROR(LOOKUP(2,1/(InBody!$B$5:$B$500=$A5),InBody!$E$5:$E$500),"")) -> 186.7 | R5: =IF($A5="","",IFERROR(Q5-INDEX(InBody!$E$5:$E$500,MATCH($A5,InBody!$B$5:$B$500,0)),"")) -> -5.4 | S5: =IF($A5="","",IFERROR(LOOKUP(2,1/(InBody!$B$5:$B$500=$A5),InBody!$F$5:$F$500),"")) -> 0.07 | T5: =IF($A5="","",IFERROR(LOOKUP(2,1/(InBody!$B$5:$B$500=$A5),InBody!$D$5:$D$500),"")) -> 106.4 | U5: =IF($A5="","",IFERROR(LOOKUP(2,1/(FMS!$B$5:$B$500=$A5),FMS!$K$5:$K$500),"")) -> 16 | V5: =IF($A5="","",IFERROR(LOOKUP(2,1/(FMS!$B$5:$B$500=$A5),FMS!$J$5:$J$500),"")) -> No | W5: =IF($A5="","",IFERROR(LOOKUP(2,1/(FMS!$B$5:$B$500=$A5),FMS!$L$5:$L$500),"")) -> No
A6: =IF(Roster!B6="","",Roster!B6) -> Player 02 | B6: =IF($A6="","",IFERROR(INDEX(Roster!$C$5:$C$500,MATCH($A6,Roster!$B$5:$B$500,0)),"")) -> SG | C6: =IF($A6="","",IFERROR(LOOKUP(2,1/('Force Plate'!$B$5:$B$500=$A6),'Force Plate'!$D$5:$D$500),"")) -> 22.1 | D6: =IF($A6="","",IFERROR(INDEX('Force Plate'!$D$5:$D$500,MATCH($A6,'Force Plate'!$B$5:$B$500,0)),"")) -> 26.2 | E6: =IFERROR((C6-D6)/D6,"") -> -0.15648855 | F6: =IF($A6="","",IFERROR(_xlfn.MAXIFS('Force Plate'!$D$5:$D$500,'Force Plate'!$B$5:$B$500,$A6),"")) -> 27.7 | G6: =IF($A6="","",IFERROR(LOOKUP(2,1/('Force Plate'!$B$5:$B$500=$A6),'Force Plate'!$E$5:$E$500),"")) -> 61.4 | H6: =IF($A6="","",IFERROR(LOOKUP(2,1/('Force Plate'!$B$5:$B$500=$A6),'Force Plate'!$F$5:$F$500),"")) -> 0.39 | I6: =IF($A6="","",IFERROR(LOOKUP(2,1/('Force Plate'!$B$5:$B$500=$A6),'Force Plate'!$I$5:$I$500),"")) -> 0.094 | J6: =IF($A6="","",IFERROR(LOOKUP(2,1/('Timing Gates'!$B$5:$B$500=$A6),'Timing Gates'!$C$5:$C$500),"")) -> 0.9 | K6: =IF($A6="","",IFERROR(LOOKUP(2,1/('Timing Gates'!$B$5:$B$500=$A6),'Timing Gates'!$D$5:$D$500),"")) -> 1.55 | L6: =IF($A6="","",IFERROR(INDEX('Timing Gates'!$D$5:$D$500,MATCH($A6,'Timing Gates'!$B$5:$B$500,0)),"")) -> 1.7 | M6: =IFERROR((L6-K6)/L6,"") -> 0.088235294 | N6: =IF($A6="","",IFERROR(_xlfn.MINIFS('Timing Gates'!$D$5:$D$500,'Timing Gates'!$B$5:$B$500,$A6),"")) -> 1.55 | O6: =IF($A6="","",IFERROR(LOOKUP(2,1/(InBody!$B$5:$B$500=$A6),InBody!$C$5:$C$500),"")) -> 209.6 | P6: =IF($A6="","",IFERROR(O6-INDEX(InBody!$C$5:$C$500,MATCH($A6,InBody!$B$5:$B$500,0)),"")) -> 6.4 | Q6: =IF($A6="","",IFERROR(LOOKUP(2,1/(InBody!$B$5:$B$500=$A6),InBody!$E$5:$E$500),"")) -> 165.7 | R6: =IF($A6="","",IFERROR(Q6-INDEX(InBody!$E$5:$E$500,MATCH($A6,InBody!$B$5:$B$500,0)),"")) -> -1.6 | S6: =IF($A6="","",IFERROR(LOOKUP(2,1/(InBody!$B$5:$B$500=$A6),InBody!$F$5:$F$500),"")) -> 0.15 | T6: =IF($A6="","",IFERROR(LOOKUP(2,1/(InBody!$B$5:$B$500=$A6),InBody!$D$5:$D$500),"")) -> 96.1 | U6: =IF($A6="","",IFERROR(LOOKUP(2,1/(FMS!$B$5:$B$500=$A6),FMS!$K$5:$K$500),"")) -> 17 | V6: =IF($A6="","",IFERROR(LOOKUP(2,1/(FMS!$B$5:$B$500=$A6),FMS!$J$5:$J$500),"")) -> No | W6: =IF($A6="","",IFERROR(LOOKUP(2,1/(FMS!$B$5:$B$500=$A6),FMS!$L$5:$L$500),"")) -> No
A7: =IF(Roster!B7="","",Roster!B7) -> Player 03 | B7: =IF($A7="","",IFERROR(INDEX(Roster!$C$5:$C$500,MATCH($A7,Roster!$B$5:$B$500,0)),"")) -> SF | C7: =IF($A7="","",IFERROR(LOOKUP(2,1/('Force Plate'!$B$5:$B$500=$A7),'Force Plate'!$D$5:$D$500),"")) -> 24.4 | D7: =IF($A7="","",IFERROR(INDEX('Force Plate'!$D$5:$D$500,MATCH($A7,'Force Plate'!$B$5:$B$500,0)),"")) -> 23.5 | E7: =IFERROR((C7-D7)/D7,"") -> 0.038297872 | F7: =IF($A7="","",IFERROR(_xlfn.MAXIFS('Force Plate'!$D$5:$D$500,'Force Plate'!$B$5:$B$500,$A7),"")) -> 24.6 | G7: =IF($A7="","",IFERROR(LOOKUP(2,1/('Force Plate'!$B$5:$B$500=$A7),'Force Plate'!$E$5:$E$500),"")) -> 59.1 | H7: =IF($A7="","",IFERROR(LOOKUP(2,1/('Force Plate'!$B$5:$B$500=$A7),'Force Plate'!$F$5:$F$500),"")) -> 0.35 | I7: =IF($A7="","",IFERROR(LOOKUP(2,1/('Force Plate'!$B$5:$B$500=$A7),'Force Plate'!$I$5:$I$500),"")) -> 0.046 | J7: =IF($A7="","",IFERROR(LOOKUP(2,1/('Timing Gates'!$B$5:$B$500=$A7),'Timing Gates'!$C$5:$C$500),"")) -> 0.95 | K7: =IF($A7="","",IFERROR(LOOKUP(2,1/('Timing Gates'!$B$5:$B$500=$A7),'Timing Gates'!$D$5:$D$500),"")) -> 1.63 | L7: =IF($A7="","",IFERROR(INDEX('Timing Gates'!$D$5:$D$500,MATCH($A7,'Timing Gates'!$B$5:$B$500,0)),"")) -> 1.63 | M7: =IFERROR((L7-K7)/L7,"") -> 0 | N7: =IF($A7="","",IFERROR(_xlfn.MINIFS('Timing Gates'!$D$5:$D$500,'Timing Gates'!$B$5:$B$500,$A7),"")) -> 1.63 | O7: =IF($A7="","",IFERROR(LOOKUP(2,1/(InBody!$B$5:$B$500=$A7),InBody!$C$5:$C$500),"")) -> 178.5 | P7: =IF($A7="","",IFERROR(O7-INDEX(InBody!$C$5:$C$500,MATCH($A7,InBody!$B$5:$B$500,0)),"")) -> 2.6 | Q7: =IF($A7="","",IFERROR(LOOKUP(2,1/(InBody!$B$5:$B$500=$A7),InBody!$E$5:$E$500),"")) -> 147.6 | R7: =IF($A7="","",IFERROR(Q7-INDEX(InBody!$E$5:$E$500,MATCH($A7,InBody!$B$5:$B$500,0)),"")) -> 5.2 | S7: =IF($A7="","",IFERROR(LOOKUP(2,1/(InBody!$B$5:$B$500=$A7),InBody!$F$5:$F$500),"")) -> 0.119 | T7: =IF($A7="","",IFERROR(LOOKUP(2,1/(InBody!$B$5:$B$500=$A7),InBody!$D$5:$D$500),"")) -> 85.5 | U7: =IF($A7="","",IFERROR(LOOKUP(2,1/(FMS!$B$5:$B$500=$A7),FMS!$K$5:$K$500),"")) -> 16 | V7: =IF($A7="","",IFERROR(LOOKUP(2,1/(FMS!$B$5:$B$500=$A7),FMS!$J$5:$J$500),"")) -> No | W7: =IF($A7="","",IFERROR(LOOKUP(2,1/(FMS!$B$5:$B$500=$A7),FMS!$L$5:$L$500),"")) -> No
A8: =IF(Roster!B8="","",Roster!B8) -> Player 04 | B8: =IF($A8="","",IFERROR(INDEX(Roster!$C$5:$C$500,MATCH($A8,Roster!$B$5:$B$500,0)),"")) -> PF | C8: =IF($A8="","",IFERROR(LOOKUP(2,1/('Force Plate'!$B$5:$B$500=$A8),'Force Plate'!$D$5:$D$500),"")) -> 28.7 | D8: =IF($A8="","",IFERROR(INDEX('Force Plate'!$D$5:$D$500,MATCH($A8,'Force Plate'!$B$5:$B$500,0)),"")) -> 23.6 | E8: =IFERROR((C8-D8)/D8,"") -> 0.21610169 | F8: =IF($A8="","",IFERROR(_xlfn.MAXIFS('Force Plate'!$D$5:$D$500,'Force Plate'!$B$5:$B$500,$A8),"")) -> 28.7 | G8: =IF($A8="","",IFERROR(LOOKUP(2,1/('Force Plate'!$B$5:$B$500=$A8),'Force Plate'!$E$5:$E$500),"")) -> 48.3 | H8: =IF($A8="","",IFERROR(LOOKUP(2,1/('Force Plate'!$B$5:$B$500=$A8),'Force Plate'!$F$5:$F$500),"")) -> 0.47 | I8: =IF($A8="","",IFERROR(LOOKUP(2,1/('Force Plate'!$B$5:$B$500=$A8),'Force Plate'!$I$5:$I$500),"")) -> 0.095 | J8: =IF($A8="","",IFERROR(LOOKUP(2,1/('Timing Gates'!$B$5:$B$500=$A8),'Timing Gates'!$C$5:$C$500),"")) -> 1.02 | K8: =IF($A8="","",IFERROR(LOOKUP(2,1/('Timing Gates'!$B$5:$B$500=$A8),'Timing Gates'!$D$5:$D$500),"")) -> 1.76 | L8: =IF($A8="","",IFERROR(INDEX('Timing Gates'!$D$5:$D$500,MATCH($A8,'Timing Gates'!$B$5:$B$500,0)),"")) -> 1.55 | M8: =IFERROR((L8-K8)/L8,"") -> -0.13548387 | N8: =IF($A8="","",IFERROR(_xlfn.MINIFS('Timing Gates'!$D$5:$D$500,'Timing Gates'!$B$5:$B$500,$A8),"")) -> 1.54 | O8: =IF($A8="","",IFERROR(LOOKUP(2,1/(InBody!$B$5:$B$500=$A8),InBody!$C$5:$C$500),"")) -> 192.3 | P8: =IF($A8="","",IFERROR(O8-INDEX(InBody!$C$5:$C$500,MATCH($A8,InBody!$B$5:$B$500,0)),"")) -> 4.7 | Q8: =IF($A8="","",IFERROR(LOOKUP(2,1/(InBody!$B$5:$B$500=$A8),InBody!$E$5:$E$500),"")) -> 164 | R8: =IF($A8="","",IFERROR(Q8-INDEX(InBody!$E$5:$E$500,MATCH($A8,InBody!$B$5:$B$500,0)),"")) -> 7.9 | S8: =IF($A8="","",IFERROR(LOOKUP(2,1/(InBody!$B$5:$B$500=$A8),InBody!$F$5:$F$500),"")) -> 0.149 | T8: =IF($A8="","",IFERROR(LOOKUP(2,1/(InBody!$B$5:$B$500=$A8),InBody!$D$5:$D$500),"")) -> 87.9 | U8: =IF($A8="","",IFERROR(LOOKUP(2,1/(FMS!$B$5:$B$500=$A8),FMS!$K$5:$K$500),"")) -> 16 | V8: =IF($A8="","",IFERROR(LOOKUP(2,1/(FMS!$B$5:$B$500=$A8),FMS!$J$5:$J$500),"")) -> Yes | W8: =IF($A8="","",IFERROR(LOOKUP(2,1/(FMS!$B$5:$B$500=$A8),FMS!$L$5:$L$500),"")) -> Yes
A9: =IF(Roster!B9="","",Roster!B9) -> Player 05 | B9: =IF($A9="","",IFERROR(INDEX(Roster!$C$5:$C$500,MATCH($A9,Roster!$B$5:$B$500,0)),"")) -> C | C9: =IF($A9="","",IFERROR(LOOKUP(2,1/('Force Plate'!$B$5:$B$500=$A9),'Force Plate'!$D$5:$D$500),"")) -> 29.8 | D9: =IF($A9="","",IFERROR(INDEX('Force Plate'!$D$5:$D$500,MATCH($A9,'Force Plate'!$B$5:$B$500,0)),"")) -> 22.6 | E9: =IFERROR((C9-D9)/D9,"") -> 0.31858407 | F9: =IF($A9="","",IFERROR(_xlfn.MAXIFS('Force Plate'!$D$5:$D$500,'Force Plate'!$B$5:$B$500,$A9),"")) -> 29.8 | G9: =IF($A9="","",IFERROR(LOOKUP(2,1/('Force Plate'!$B$5:$B$500=$A9),'Force Plate'!$E$5:$E$500),"")) -> 54.9 | H9: =IF($A9="","",IFERROR(LOOKUP(2,1/('Force Plate'!$B$5:$B$500=$A9),'Force Plate'!$F$5:$F$500),"")) -> 0.37 | I9: =IF($A9="","",IFERROR(LOOKUP(2,1/('Force Plate'!$B$5:$B$500=$A9),'Force Plate'!$I$5:$I$500),"")) -> 0.138 | J9: =IF($A9="","",IFERROR(LOOKUP(2,1/('Timing Gates'!$B$5:$B$500=$A9),'Timing Gates'!$C$5:$C$500),"")) -> 0.94 | K9: =IF($A9="","",IFERROR(LOOKUP(2,1/('Timing Gates'!$B$5:$B$500=$A9),'Timing Gates'!$D$5:$D$500),"")) -> 1.62 | L9: =IF($A9="","",IFERROR(INDEX('Timing Gates'!$D$5:$D$500,MATCH($A9,'Timing Gates'!$B$5:$B$500,0)),"")) -> 1.83 | M9: =IFERROR((L9-K9)/L9,"") -> 0.1147541 | N9: =IF($A9="","",IFERROR(_xlfn.MINIFS('Timing Gates'!$D$5:$D$500,'Timing Gates'!$B$5:$B$500,$A9),"")) -> 1.62 | O9: =IF($A9="","",IFERROR(LOOKUP(2,1/(InBody!$B$5:$B$500=$A9),InBody!$C$5:$C$500),"")) -> 232.2 | P9: =IF($A9="","",IFERROR(O9-INDEX(InBody!$C$5:$C$500,MATCH($A9,InBody!$B$5:$B$500,0)),"")) -> 3.9 | Q9: =IF($A9="","",IFERROR(LOOKUP(2,1/(InBody!$B$5:$B$500=$A9),InBody!$E$5:$E$500),"")) -> 202.3 | R9: =IF($A9="","",IFERROR(Q9-INDEX(InBody!$E$5:$E$500,MATCH($A9,InBody!$B$5:$B$500,0)),"")) -> 14.7 | S9: =IF($A9="","",IFERROR(LOOKUP(2,1/(InBody!$B$5:$B$500=$A9),InBody!$F$5:$F$500),"")) -> 0.125 | T9: =IF($A9="","",IFERROR(LOOKUP(2,1/(InBody!$B$5:$B$500=$A9),InBody!$D$5:$D$500),"")) -> 101.4 | U9: =IF($A9="","",IFERROR(LOOKUP(2,1/(FMS!$B$5:$B$500=$A9),FMS!$K$5:$K$500),"")) -> 16 | V9: =IF($A9="","",IFERROR(LOOKUP(2,1/(FMS!$B$5:$B$500=$A9),FMS!$J$5:$J$500),"")) -> No | W9: =IF($A9="","",IFERROR(LOOKUP(2,1/(FMS!$B$5:$B$500=$A9),FMS!$L$5:$L$500),"")) -> No
A10: =IF(Roster!B10="","",Roster!B10) -> Player 06 | B10: =IF($A10="","",IFERROR(INDEX(Roster!$C$5:$C$500,MATCH($A10,Roster!$B$5:$B$500,0)),"")) -> PG | C10: =IF($A10="","",IFERROR(LOOKUP(2,1/('Force Plate'!$B$5:$B$500=$A10),'Force Plate'!$D$5:$D$500),"")) -> 25 | D10: =IF($A10="","",IFERROR(INDEX('Force Plate'!$D$5:$D$500,MATCH($A10,'Force Plate'!$B$5:$B$500,0)),"")) -> 27.3 | E10: =IFERROR((C10-D10)/D10,"") -> -0.084249084 | F10: =IF($A10="","",IFERROR(_xlfn.MAXIFS('Force Plate'!$D$5:$D$500,'Force Plate'!$B$5:$B$500,$A10),"")) -> 27.3 | G10: =IF($A10="","",IFERROR(LOOKUP(2,1/('Force Plate'!$B$5:$B$500=$A10),'Force Plate'!$E$5:$E$500),"")) -> 55.5 | H10: =IF($A10="","",IFERROR(LOOKUP(2,1/('Force Plate'!$B$5:$B$500=$A10),'Force Plate'!$F$5:$F$500),"")) -> 0.36 | I10: =IF($A10="","",IFERROR(LOOKUP(2,1/('Force Plate'!$B$5:$B$500=$A10),'Force Plate'!$I$5:$I$500),"")) -> 0.11 | J10: =IF($A10="","",IFERROR(LOOKUP(2,1/('Timing Gates'!$B$5:$B$500=$A10),'Timing Gates'!$C$5:$C$500),"")) -> 1.01 | K10: =IF($A10="","",IFERROR(LOOKUP(2,1/('Timing Gates'!$B$5:$B$500=$A10),'Timing Gates'!$D$5:$D$500),"")) -> 1.74 | L10: =IF($A10="","",IFERROR(INDEX('Timing Gates'!$D$5:$D$500,MATCH($A10,'Timing Gates'!$B$5:$B$500,0)),"")) -> 1.57 | M10: =IFERROR((L10-K10)/L10,"") -> -0.10828025 | N10: =IF($A10="","",IFERROR(_xlfn.MINIFS('Timing Gates'!$D$5:$D$500,'Timing Gates'!$B$5:$B$500,$A10),"")) -> 1.57 | O10: =IF($A10="","",IFERROR(LOOKUP(2,1/(InBody!$B$5:$B$500=$A10),InBody!$C$5:$C$500),"")) -> 211.8 | P10: =IF($A10="","",IFERROR(O10-INDEX(InBody!$C$5:$C$500,MATCH($A10,InBody!$B$5:$B$500,0)),"")) -> 2 | Q10: =IF($A10="","",IFERROR(LOOKUP(2,1/(InBody!$B$5:$B$500=$A10),InBody!$E$5:$E$500),"")) -> 187 | R10: =IF($A10="","",IFERROR(Q10-INDEX(InBody!$E$5:$E$500,MATCH($A10,InBody!$B$5:$B$500,0)),"")) -> 13.6 | S10: =IF($A10="","",IFERROR(LOOKUP(2,1/(InBody!$B$5:$B$500=$A10),InBody!$F$5:$F$500),"")) -> 0.073 | T10: =IF($A10="","",IFERROR(LOOKUP(2,1/(InBody!$B$5:$B$500=$A10),InBody!$D$5:$D$500),"")) -> 90.5 | U10: =IF($A10="","",IFERROR(LOOKUP(2,1/(FMS!$B$5:$B$500=$A10),FMS!$K$5:$K$500),"")) -> 14 | V10: =IF($A10="","",IFERROR(LOOKUP(2,1/(FMS!$B$5:$B$500=$A10),FMS!$J$5:$J$500),"")) -> No | W10: =IF($A10="","",IFERROR(LOOKUP(2,1/(FMS!$B$5:$B$500=$A10),FMS!$L$5:$L$500),"")) -> No
A11: =IF(Roster!B11="","",Roster!B11) -> Player 07 | B11: =IF($A11="","",IFERROR(INDEX(Roster!$C$5:$C$500,MATCH($A11,Roster!$B$5:$B$500,0)),"")) -> SG | C11: =IF($A11="","",IFERROR(LOOKUP(2,1/('Force Plate'!$B$5:$B$500=$A11),'Force Plate'!$D$5:$D$500),"")) -> 25.5 | D11: =IF($A11="","",IFERROR(INDEX('Force Plate'!$D$5:$D$500,MATCH($A11,'Force Plate'!$B$5:$B$500,0)),"")) -> 23.1 | E11: =IFERROR((C11-D11)/D11,"") -> 0.1038961 | F11: =IF($A11="","",IFERROR(_xlfn.MAXIFS('Force Plate'!$D$5:$D$500,'Force Plate'!$B$5:$B$500,$A11),"")) -> 25.5 | G11: =IF($A11="","",IFERROR(LOOKUP(2,1/('Force Plate'!$B$5:$B$500=$A11),'Force Plate'!$E$5:$E$500),"")) -> 49.8 | H11: =IF($A11="","",IFERROR(LOOKUP(2,1/('Force Plate'!$B$5:$B$500=$A11),'Force Plate'!$F$5:$F$500),"")) -> 0.39 | I11: =IF($A11="","",IFERROR(LOOKUP(2,1/('Force Plate'!$B$5:$B$500=$A11),'Force Plate'!$I$5:$I$500),"")) -> 0.081 | J11: =IF($A11="","",IFERROR(LOOKUP(2,1/('Timing Gates'!$B$5:$B$500=$A11),'Timing Gates'!$C$5:$C$500),"")) -> 1.04 | K11: =IF($A11="","",IFERROR(LOOKUP(2,1/('Timing Gates'!$B$5:$B$500=$A11),'Timing Gates'!$D$5:$D$500),"")) -> 1.8 | L11: =IF($A11="","",IFERROR(INDEX('Timing Gates'!$D$5:$D$500,MATCH($A11,'Timing Gates'!$B$5:$B$500,0)),"")) -> 1.65 | M11: =IFERROR((L11-K11)/L11,"") -> -0.090909091 | N11: =IF($A11="","",IFERROR(_xlfn.MINIFS('Timing Gates'!$D$5:$D$500,'Timing Gates'!$B$5:$B$500,$A11),"")) -> 1.53 | O11: =IF($A11="","",IFERROR(LOOKUP(2,1/(InBody!$B$5:$B$500=$A11),InBody!$C$5:$C$500),"")) -> 208.3 | P11: =IF($A11="","",IFERROR(O11-INDEX(InBody!$C$5:$C$500,MATCH($A11,InBody!$B$5:$B$500,0)),"")) -> 4.2 | Q11: =IF($A11="","",IFERROR(LOOKUP(2,1/(InBody!$B$5:$B$500=$A11),InBody!$E$5:$E$500),"")) -> 168.4 | R11: =IF($A11="","",IFERROR(Q11-INDEX(InBody!$E$5:$E$500,MATCH($A11,InBody!$B$5:$B$500,0)),"")) -> 0.6 | S11: =IF($A11="","",IFERROR(LOOKUP(2,1/(InBody!$B$5:$B$500=$A11),InBody!$F$5:$F$500),"")) -> 0.12 | T11: =IF($A11="","",IFERROR(LOOKUP(2,1/(InBody!$B$5:$B$500=$A11),InBody!$D$5:$D$500),"")) -> 98.6 | U11: =IF($A11="","",IFERROR(LOOKUP(2,1/(FMS!$B$5:$B$500=$A11),FMS!$K$5:$K$500),"")) -> 16 | V11: =IF($A11="","",IFERROR(LOOKUP(2,1/(FMS!$B$5:$B$500=$A11),FMS!$J$5:$J$500),"")) -> No | W11: =IF($A11="","",IFERROR(LOOKUP(2,1/(FMS!$B$5:$B$500=$A11),FMS!$L$5:$L$500),"")) -> No
A12: =IF(Roster!B12="","",Roster!B12) -> Player 08 | B12: =IF($A12="","",IFERROR(INDEX(Roster!$C$5:$C$500,MATCH($A12,Roster!$B$5:$B$500,0)),"")) -> SF | C12: =IF($A12="","",IFERROR(LOOKUP(2,1/('Force Plate'!$B$5:$B$500=$A12),'Force Plate'!$D$5:$D$500),"")) -> 19 | D12: =IF($A12="","",IFERROR(INDEX('Force Plate'!$D$5:$D$500,MATCH($A12,'Force Plate'!$B$5:$B$500,0)),"")) -> 22.6 | E12: =IFERROR((C12-D12)/D12,"") -> -0.15929204 | F12: =IF($A12="","",IFERROR(_xlfn.MAXIFS('Force Plate'!$D$5:$D$500,'Force Plate'!$B$5:$B$500,$A12),"")) -> 26.5 | G12: =IF($A12="","",IFERROR(LOOKUP(2,1/('Force Plate'!$B$5:$B$500=$A12),'Force Plate'!$E$5:$E$500),"")) -> 57.5 | H12: =IF($A12="","",IFERROR(LOOKUP(2,1/('Force Plate'!$B$5:$B$500=$A12),'Force Plate'!$F$5:$F$500),"")) -> 0.43 | I12: =IF($A12="","",IFERROR(LOOKUP(2,1/('Force Plate'!$B$5:$B$500=$A12),'Force Plate'!$I$5:$I$500),"")) -> 0.127 | J12: =IF($A12="","",IFERROR(LOOKUP(2,1/('Timing Gates'!$B$5:$B$500=$A12),'Timing Gates'!$C$5:$C$500),"")) -> 1.04 | K12: =IF($A12="","",IFERROR(LOOKUP(2,1/('Timing Gates'!$B$5:$B$500=$A12),'Timing Gates'!$D$5:$D$500),"")) -> 1.79 | L12: =IF($A12="","",IFERROR(INDEX('Timing Gates'!$D$5:$D$500,MATCH($A12,'Timing Gates'!$B$5:$B$500,0)),"")) -> 1.64 | M12: =IFERROR((L12-K12)/L12,"") -> -0.091463415 | N12: =IF($A12="","",IFERROR(_xlfn.MINIFS('Timing Gates'!$D$5:$D$500,'Timing Gates'!$B$5:$B$500,$A12),"")) -> 1.64 | O12: =IF($A12="","",IFERROR(LOOKUP(2,1/(InBody!$B$5:$B$500=$A12),InBody!$C$5:$C$500),"")) -> 202.5 | P12: =IF($A12="","",IFERROR(O12-INDEX(InBody!$C$5:$C$500,MATCH($A12,InBody!$B$5:$B$500,0)),"")) -> 7.2 | Q12: =IF($A12="","",IFERROR(LOOKUP(2,1/(InBody!$B$5:$B$500=$A12),InBody!$E$5:$E$500),"")) -> 173.2 | R12: =IF($A12="","",IFERROR(Q12-INDEX(InBody!$E$5:$E$500,MATCH($A12,InBody!$B$5:$B$500,0)),"")) -> -1 | S12: =IF($A12="","",IFERROR(LOOKUP(2,1/(InBody!$B$5:$B$500=$A12),InBody!$F$5:$F$500),"")) -> 0.155 | T12: =IF($A12="","",IFERROR(LOOKUP(2,1/(InBody!$B$5:$B$500=$A12),InBody!$D$5:$D$500),"")) -> 87.5 | U12: =IF($A12="","",IFERROR(LOOKUP(2,1/(FMS!$B$5:$B$500=$A12),FMS!$K$5:$K$500),"")) -> 19 | V12: =IF($A12="","",IFERROR(LOOKUP(2,1/(FMS!$B$5:$B$500=$A12),FMS!$J$5:$J$500),"")) -> No | W12: =IF($A12="","",IFERROR(LOOKUP(2,1/(FMS!$B$5:$B$500=$A12),FMS!$L$5:$L$500),"")) -> No
A13: =IF(Roster!B13="","",Roster!B13) -> Player 09 | B13: =IF($A13="","",IFERROR(INDEX(Roster!$C$5:$C$500,MATCH($A13,Roster!$B$5:$B$500,0)),"")) -> PF | C13: =IF($A13="","",IFERROR(LOOKUP(2,1/('Force Plate'!$B$5:$B$500=$A13),'Force Plate'!$D$5:$D$500),"")) -> 26.8 | D13: =IF($A13="","",IFERROR(INDEX('Force Plate'!$D$5:$D$500,MATCH($A13,'Force Plate'!$B$5:$B$500,0)),"")) -> 25.1 | E13: =IFERROR((C13-D13)/D13,"") -> 0.067729084 | F13: =IF($A13="","",IFERROR(_xlfn.MAXIFS('Force Plate'!$D$5:$D$500,'Force Plate'!$B$5:$B$500,$A13),"")) -> 26.8 | G13: =IF($A13="","",IFERROR(LOOKUP(2,1/('Force Plate'!$B$5:$B$500=$A13),'Force Plate'!$E$5:$E$500),"")) -> 53.7 | H13: =IF($A13="","",IFERROR(LOOKUP(2,1/('Force Plate'!$B$5:$B$500=$A13),'Force Plate'!$F$5:$F$500),"")) -> 0.44 | I13: =IF($A13="","",IFERROR(LOOKUP(2,1/('Force Plate'!$B$5:$B$500=$A13),'Force Plate'!$I$5:$I$500),"")) -> 0.021 | J13: =IF($A13="","",IFERROR(LOOKUP(2,1/('Timing Gates'!$B$5:$B$500=$A13),'Timing Gates'!$C$5:$C$500),"")) -> 0.92 | K13: =IF($A13="","",IFERROR(LOOKUP(2,1/('Timing Gates'!$B$5:$B$500=$A13),'Timing Gates'!$D$5:$D$500),"")) -> 1.59 | L13: =IF($A13="","",IFERROR(INDEX('Timing Gates'!$D$5:$D$500,MATCH($A13,'Timing Gates'!$B$5:$B$500,0)),"")) -> 1.65 | M13: =IFERROR((L13-K13)/L13,"") -> 0.036363636 | N13: =IF($A13="","",IFERROR(_xlfn.MINIFS('Timing Gates'!$D$5:$D$500,'Timing Gates'!$B$5:$B$500,$A13),"")) -> 1.57 | O13: =IF($A13="","",IFERROR(LOOKUP(2,1/(InBody!$B$5:$B$500=$A13),InBody!$C$5:$C$500),"")) -> 230.9 | P13: =IF($A13="","",IFERROR(O13-INDEX(InBody!$C$5:$C$500,MATCH($A13,InBody!$B$5:$B$500,0)),"")) -> -0.7 | Q13: =IF($A13="","",IFERROR(LOOKUP(2,1/(InBody!$B$5:$B$500=$A13),InBody!$E$5:$E$500),"")) -> 196.1 | R13: =IF($A13="","",IFERROR(Q13-INDEX(InBody!$E$5:$E$500,MATCH($A13,InBody!$B$5:$B$500,0)),"")) -> 2.7 | S13: =IF($A13="","",IFERROR(LOOKUP(2,1/(InBody!$B$5:$B$500=$A13),InBody!$F$5:$F$500),"")) -> 0.115 | T13: =IF($A13="","",IFERROR(LOOKUP(2,1/(InBody!$B$5:$B$500=$A13),InBody!$D$5:$D$500),"")) -> 105.9 | U13: =IF($A13="","",IFERROR(LOOKUP(2,1/(FMS!$B$5:$B$500=$A13),FMS!$K$5:$K$500),"")) -> 17 | V13: =IF($A13="","",IFERROR(LOOKUP(2,1/(FMS!$B$5:$B$500=$A13),FMS!$J$5:$J$500),"")) -> No | W13: =IF($A13="","",IFERROR(LOOKUP(2,1/(FMS!$B$5:$B$500=$A13),FMS!$L$5:$L$500),"")) -> No
A14: =IF(Roster!B14="","",Roster!B14) -> Player 10 | B14: =IF($A14="","",IFERROR(INDEX(Roster!$C$5:$C$500,MATCH($A14,Roster!$B$5:$B$500,0)),"")) -> C | C14: =IF($A14="","",IFERROR(LOOKUP(2,1/('Force Plate'!$B$5:$B$500=$A14),'Force Plate'!$D$5:$D$500),"")) -> 20.4 | D14: =IF($A14="","",IFERROR(INDEX('Force Plate'!$D$5:$D$500,MATCH($A14,'Force Plate'!$B$5:$B$500,0)),"")) -> 23.8 | E14: =IFERROR((C14-D14)/D14,"") -> -0.14285714 | F14: =IF($A14="","",IFERROR(_xlfn.MAXIFS('Force Plate'!$D$5:$D$500,'Force Plate'!$B$5:$B$500,$A14),"")) -> 26 | G14: =IF($A14="","",IFERROR(LOOKUP(2,1/('Force Plate'!$B$5:$B$500=$A14),'Force Plate'!$E$5:$E$500),"")) -> 58.2 | H14: =IF($A14="","",IFERROR(LOOKUP(2,1/('Force Plate'!$B$5:$B$500=$A14),'Force Plate'!$F$5:$F$500),"")) -> 0.32 | I14: =IF($A14="","",IFERROR(LOOKUP(2,1/('Force Plate'!$B$5:$B$500=$A14),'Force Plate'!$I$5:$I$500),"")) -> 0.101 | J14: =IF($A14="","",IFERROR(LOOKUP(2,1/('Timing Gates'!$B$5:$B$500=$A14),'Timing Gates'!$C$5:$C$500),"")) -> 0.89 | K14: =IF($A14="","",IFERROR(LOOKUP(2,1/('Timing Gates'!$B$5:$B$500=$A14),'Timing Gates'!$D$5:$D$500),"")) -> 1.54 | L14: =IF($A14="","",IFERROR(INDEX('Timing Gates'!$D$5:$D$500,MATCH($A14,'Timing Gates'!$B$5:$B$500,0)),"")) -> 1.7 | M14: =IFERROR((L14-K14)/L14,"") -> 0.094117647 | N14: =IF($A14="","",IFERROR(_xlfn.MINIFS('Timing Gates'!$D$5:$D$500,'Timing Gates'!$B$5:$B$500,$A14),"")) -> 1.54 | O14: =IF($A14="","",IFERROR(LOOKUP(2,1/(InBody!$B$5:$B$500=$A14),InBody!$C$5:$C$500),"")) -> 215.1 | P14: =IF($A14="","",IFERROR(O14-INDEX(InBody!$C$5:$C$500,MATCH($A14,InBody!$B$5:$B$500,0)),"")) -> 2.2 | Q14: =IF($A14="","",IFERROR(LOOKUP(2,1/(InBody!$B$5:$B$500=$A14),InBody!$E$5:$E$500),"")) -> 183.4 | R14: =IF($A14="","",IFERROR(Q14-INDEX(InBody!$E$5:$E$500,MATCH($A14,InBody!$B$5:$B$500,0)),"")) -> 3.4 | S14: =IF($A14="","",IFERROR(LOOKUP(2,1/(InBody!$B$5:$B$500=$A14),InBody!$F$5:$F$500),"")) -> 0.111 | T14: =IF($A14="","",IFERROR(LOOKUP(2,1/(InBody!$B$5:$B$500=$A14),InBody!$D$5:$D$500),"")) -> 99.1 | U14: =IF($A14="","",IFERROR(LOOKUP(2,1/(FMS!$B$5:$B$500=$A14),FMS!$K$5:$K$500),"")) -> 15 | V14: =IF($A14="","",IFERROR(LOOKUP(2,1/(FMS!$B$5:$B$500=$A14),FMS!$J$5:$J$500),"")) -> No | W14: =IF($A14="","",IFERROR(LOOKUP(2,1/(FMS!$B$5:$B$500=$A14),FMS!$L$5:$L$500),"")) -> Yes
A15: =IF(Roster!B15="","",Roster!B15) -> Player 11 | B15: =IF($A15="","",IFERROR(INDEX(Roster!$C$5:$C$500,MATCH($A15,Roster!$B$5:$B$500,0)),"")) -> PG | C15: =IF($A15="","",IFERROR(LOOKUP(2,1/('Force Plate'!$B$5:$B$500=$A15),'Force Plate'!$D$5:$D$500),"")) -> 29.6 | D15: =IF($A15="","",IFERROR(INDEX('Force Plate'!$D$5:$D$500,MATCH($A15,'Force Plate'!$B$5:$B$500,0)),"")) -> 20.1 | E15: =IFERROR((C15-D15)/D15,"") -> 0.47263682 | F15: =IF($A15="","",IFERROR(_xlfn.MAXIFS('Force Plate'!$D$5:$D$500,'Force Plate'!$B$5:$B$500,$A15),"")) -> 29.6 | G15: =IF($A15="","",IFERROR(LOOKUP(2,1/('Force Plate'!$B$5:$B$500=$A15),'Force Plate'!$E$5:$E$500),"")) -> 54.1 | H15: =IF($A15="","",IFERROR(LOOKUP(2,1/('Force Plate'!$B$5:$B$500=$A15),'Force Plate'!$F$5:$F$500),"")) -> 0.39 | I15: =IF($A15="","",IFERROR(LOOKUP(2,1/('Force Plate'!$B$5:$B$500=$A15),'Force Plate'!$I$5:$I$500),"")) -> 0.114 | J15: =IF($A15="","",IFERROR(LOOKUP(2,1/('Timing Gates'!$B$5:$B$500=$A15),'Timing Gates'!$C$5:$C$500),"")) -> 1.04 | K15: =IF($A15="","",IFERROR(LOOKUP(2,1/('Timing Gates'!$B$5:$B$500=$A15),'Timing Gates'!$D$5:$D$500),"")) -> 1.8 | L15: =IF($A15="","",IFERROR(INDEX('Timing Gates'!$D$5:$D$500,MATCH($A15,'Timing Gates'!$B$5:$B$500,0)),"")) -> 1.69 | M15: =IFERROR((L15-K15)/L15,"") -> -0.065088757 | N15: =IF($A15="","",IFERROR(_xlfn.MINIFS('Timing Gates'!$D$5:$D$500,'Timing Gates'!$B$5:$B$500,$A15),"")) -> 1.64 | O15: =IF($A15="","",IFERROR(LOOKUP(2,1/(InBody!$B$5:$B$500=$A15),InBody!$C$5:$C$500),"")) -> 189.4 | P15: =IF($A15="","",IFERROR(O15-INDEX(InBody!$C$5:$C$500,MATCH($A15,InBody!$B$5:$B$500,0)),"")) -> -3.2 | Q15: =IF($A15="","",IFERROR(LOOKUP(2,1/(InBody!$B$5:$B$500=$A15),InBody!$E$5:$E$500),"")) -> 167.4 | R15: =IF($A15="","",IFERROR(Q15-INDEX(InBody!$E$5:$E$500,MATCH($A15,InBody!$B$5:$B$500,0)),"")) -> 0 | S15: =IF($A15="","",IFERROR(LOOKUP(2,1/(InBody!$B$5:$B$500=$A15),InBody!$F$5:$F$500),"")) -> 0.154 | T15: =IF($A15="","",IFERROR(LOOKUP(2,1/(InBody!$B$5:$B$500=$A15),InBody!$D$5:$D$500),"")) -> 95.9 | U15: =IF($A15="","",IFERROR(LOOKUP(2,1/(FMS!$B$5:$B$500=$A15),FMS!$K$5:$K$500),"")) -> 17 | V15: =IF($A15="","",IFERROR(LOOKUP(2,1/(FMS!$B$5:$B$500=$A15),FMS!$J$5:$J$500),"")) -> No | W15: =IF($A15="","",IFERROR(LOOKUP(2,1/(FMS!$B$5:$B$500=$A15),FMS!$L$5:$L$500),"")) -> No
A16: =IF(Roster!B16="","",Roster!B16) -> Player 12 | B16: =IF($A16="","",IFERROR(INDEX(Roster!$C$5:$C$500,MATCH($A16,Roster!$B$5:$B$500,0)),"")) -> SG | C16: =IF($A16="","",IFERROR(LOOKUP(2,1/('Force Plate'!$B$5:$B$500=$A16),'Force Plate'!$D$5:$D$500),"")) -> 22.9 | D16: =IF($A16="","",IFERROR(INDEX('Force Plate'!$D$5:$D$500,MATCH($A16,'Force Plate'!$B$5:$B$500,0)),"")) -> 26 | E16: =IFERROR((C16-D16)/D16,"") -> -0.11923077 | F16: =IF($A16="","",IFERROR(_xlfn.MAXIFS('Force Plate'!$D$5:$D$500,'Force Plate'!$B$5:$B$500,$A16),"")) -> 27 | G16: =IF($A16="","",IFERROR(LOOKUP(2,1/('Force Plate'!$B$5:$B$500=$A16),'Force Plate'!$E$5:$E$500),"")) -> 48.6 | H16: =IF($A16="","",IFERROR(LOOKUP(2,1/('Force Plate'!$B$5:$B$500=$A16),'Force Plate'!$F$5:$F$500),"")) -> 0.44 | I16: =IF($A16="","",IFERROR(LOOKUP(2,1/('Force Plate'!$B$5:$B$500=$A16),'Force Plate'!$I$5:$I$500),"")) -> 0.137 | J16: =IF($A16="","",IFERROR(LOOKUP(2,1/('Timing Gates'!$B$5:$B$500=$A16),'Timing Gates'!$C$5:$C$500),"")) -> 1.03 | K16: =IF($A16="","",IFERROR(LOOKUP(2,1/('Timing Gates'!$B$5:$B$500=$A16),'Timing Gates'!$D$5:$D$500),"")) -> 1.78 | L16: =IF($A16="","",IFERROR(INDEX('Timing Gates'!$D$5:$D$500,MATCH($A16,'Timing Gates'!$B$5:$B$500,0)),"")) -> 1.77 | M16: =IFERROR((L16-K16)/L16,"") -> -0.0056497175 | N16: =IF($A16="","",IFERROR(_xlfn.MINIFS('Timing Gates'!$D$5:$D$500,'Timing Gates'!$B$5:$B$500,$A16),"")) -> 1.62 | O16: =IF($A16="","",IFERROR(LOOKUP(2,1/(InBody!$B$5:$B$500=$A16),InBody!$C$5:$C$500),"")) -> 185.3 | P16: =IF($A16="","",IFERROR(O16-INDEX(InBody!$C$5:$C$500,MATCH($A16,InBody!$B$5:$B$500,0)),"")) -> 4.7 | Q16: =IF($A16="","",IFERROR(LOOKUP(2,1/(InBody!$B$5:$B$500=$A16),InBody!$E$5:$E$500),"")) -> 159.6 | R16: =IF($A16="","",IFERROR(Q16-INDEX(InBody!$E$5:$E$500,MATCH($A16,InBody!$B$5:$B$500,0)),"")) -> 9.8 | S16: =IF($A16="","",IFERROR(LOOKUP(2,1/(InBody!$B$5:$B$500=$A16),InBody!$F$5:$F$500),"")) -> 0.154 | T16: =IF($A16="","",IFERROR(LOOKUP(2,1/(InBody!$B$5:$B$500=$A16),InBody!$D$5:$D$500),"")) -> 83 | U16: =IF($A16="","",IFERROR(LOOKUP(2,1/(FMS!$B$5:$B$500=$A16),FMS!$K$5:$K$500),"")) -> 18 | V16: =IF($A16="","",IFERROR(LOOKUP(2,1/(FMS!$B$5:$B$500=$A16),FMS!$J$5:$J$500),"")) -> No | W16: =IF($A16="","",IFERROR(LOOKUP(2,1/(FMS!$B$5:$B$500=$A16),FMS!$L$5:$L$500),"")) -> No
... A19: =IF(Roster!B19="","",Roster!B19) -> Player 15 | B19: =IF($A19="","",IFERROR(INDEX(Roster!$C$5:$C$500,MATCH($A19,Roster!$B$5:$B$500,0)),"")) -> C | C19: =IF($A19="","",IFERROR(LOOKUP(2,1/('Force Plate'!$B$5:$B$500=$A19),'Force Plate'!$D$5:$D$500),"")) -> 27.4 | D19: =IF($A19="","",IFERROR(INDEX('Force Plate'!$D$5:$D$500,MATCH($A19,'Force Plate'!$B$5:$B$500,0)),"")) -> 25.2 | E19: =IFERROR((C19-D19)/D19,"") -> 0.087301587 | F19: =IF($A19="","",IFERROR(_xlfn.MAXIFS('Force Plate'!$D$5:$D$500,'Force Plate'!$B$5:$B$500,$A19),"")) -> 28 | G19: =IF($A19="","",IFERROR(LOOKUP(2,1/('Force Plate'!$B$5:$B$500=$A19),'Force Plate'!$E$5:$E$500),"")) -> 58.5 | H19: =IF($A19="","",IFERROR(LOOKUP(2,1/('Force Plate'!$B$5:$B$500=$A19),'Force Plate'!$F$5:$F$500),"")) -> 0.48 | I19: =IF($A19="","",IFERROR(LOOKUP(2,1/('Force Plate'!$B$5:$B$500=$A19),'Force Plate'!$I$5:$I$500),"")) -> 0.127 | J19: =IF($A19="","",IFERROR(LOOKUP(2,1/('Timing Gates'!$B$5:$B$500=$A19),'Timing Gates'!$C$5:$C$500),"")) -> 0.9 | K19: =IF($A19="","",IFERROR(LOOKUP(2,1/('Timing Gates'!$B$5:$B$500=$A19),'Timing Gates'!$D$5:$D$500),"")) -> 1.56 | L19: =IF($A19="","",IFERROR(INDEX('Timing Gates'!$D$5:$D$500,MATCH($A19,'Timing Gates'!$B$5:$B$500,0)),"")) -> 1.68 | M19: =IFERROR((L19-K19)/L19,"") -> 0.071428571 | N19: =IF($A19="","",IFERROR(_xlfn.MINIFS('Timing Gates'!$D$5:$D$500,'Timing Gates'!$B$5:$B$500,$A19),"")) -> 1.56 | O19: =IF($A19="","",IFERROR(LOOKUP(2,1/(InBody!$B$5:$B$500=$A19),InBody!$C$5:$C$500),"")) -> 209.3 | P19: =IF($A19="","",IFERROR(O19-INDEX(InBody!$C$5:$C$500,MATCH($A19,InBody!$B$5:$B$500,0)),"")) -> 1.7 | Q19: =IF($A19="","",IFERROR(LOOKUP(2,1/(InBody!$B$5:$B$500=$A19),InBody!$E$5:$E$500),"")) -> 177.9 | R19: =IF($A19="","",IFERROR(Q19-INDEX(InBody!$E$5:$E$500,MATCH($A19,InBody!$B$5:$B$500,0)),"")) -> 1.4 | S19: =IF($A19="","",IFERROR(LOOKUP(2,1/(InBody!$B$5:$B$500=$A19),InBody!$F$5:$F$500),"")) -> 0.156 | T19: =IF($A19="","",IFERROR(LOOKUP(2,1/(InBody!$B$5:$B$500=$A19),InBody!$D$5:$D$500),"")) -> 93.4 | U19: =IF($A19="","",IFERROR(LOOKUP(2,1/(FMS!$B$5:$B$500=$A19),FMS!$K$5:$K$500),"")) -> 15 | V19: =IF($A19="","",IFERROR(LOOKUP(2,1/(FMS!$B$5:$B$500=$A19),FMS!$J$5:$J$500),"")) -> No | W19: =IF($A19="","",IFERROR(LOOKUP(2,1/(FMS!$B$5:$B$500=$A19),FMS!$L$5:$L$500),"")) -> No
A20: =IF(Roster!B20="","",Roster!B20) | B20: =IF($A20="","",IFERROR(INDEX(Roster!$C$5:$C$500,MATCH($A20,Roster!$B$5:$B$500,0)),"")) | C20: =IF($A20="","",IFERROR(LOOKUP(2,1/('Force Plate'!$B$5:$B$500=$A20),'Force Plate'!$D$5:$D$500),"")) | D20: =IF($A20="","",IFERROR(INDEX('Force Plate'!$D$5:$D$500,MATCH($A20,'Force Plate'!$B$5:$B$500,0)),"")) | E20: =IFERROR((C20-D20)/D20,"") | F20: =IF($A20="","",IFERROR(_xludf.MAXIFS('Force Plate'!$D$5:$D$500,'Force Plate'!$B$5:$B$500,$A20),"")) | G20: =IF($A20="","",IFERROR(LOOKUP(2,1/('Force Plate'!$B$5:$B$500=$A20),'Force Plate'!$E$5:$E$500),"")) | H20: =IF($A20="","",IFERROR(LOOKUP(2,1/('Force Plate'!$B$5:$B$500=$A20),'Force Plate'!$F$5:$F$500),"")) | I20: =IF($A20="","",IFERROR(LOOKUP(2,1/('Force Plate'!$B$5:$B$500=$A20),'Force Plate'!$I$5:$I$500),"")) | J20: =IF($A20="","",IFERROR(LOOKUP(2,1/('Timing Gates'!$B$5:$B$500=$A20),'Timing Gates'!$C$5:$C$500),"")) | K20: =IF($A20="","",IFERROR(LOOKUP(2,1/('Timing Gates'!$B$5:$B$500=$A20),'Timing Gates'!$D$5:$D$500),"")) | L20: =IF($A20="","",IFERROR(INDEX('Timing Gates'!$D$5:$D$500,MATCH($A20,'Timing Gates'!$B$5:$B$500,0)),"")) | M20: =IFERROR((L20-K20)/L20,"") | N20: =IF($A20="","",IFERROR(_xludf.MINIFS('Timing Gates'!$D$5:$D$500,'Timing Gates'!$B$5:$B$500,$A20),"")) | O20: =IF($A20="","",IFERROR(LOOKUP(2,1/(InBody!$B$5:$B$500=$A20),InBody!$C$5:$C$500),"")) | P20: =IF($A20="","",IFERROR(O20-INDEX(InBody!$C$5:$C$500,MATCH($A20,InBody!$B$5:$B$500,0)),"")) | Q20: =IF($A20="","",IFERROR(LOOKUP(2,1/(InBody!$B$5:$B$500=$A20),InBody!$E$5:$E$500),"")) | R20: =IF($A20="","",IFERROR(Q20-INDEX(InBody!$E$5:$E$500,MATCH($A20,InBody!$B$5:$B$500,0)),"")) | S20: =IF($A20="","",IFERROR(LOOKUP(2,1/(InBody!$B$5:$B$500=$A20),InBody!$F$5:$F$500),"")) | T20: =IF($A20="","",IFERROR(LOOKUP(2,1/(InBody!$B$5:$B$500=$A20),InBody!$D$5:$D$500),"")) | U20: =IF($A20="","",IFERROR(LOOKUP(2,1/(FMS!$B$5:$B$500=$A20),FMS!$K$5:$K$500),"")) | V20: =IF($A20="","",IFERROR(LOOKUP(2,1/(FMS!$B$5:$B$500=$A20),FMS!$J$5:$J$500),"")) | W20: =IF($A20="","",IFERROR(LOOKUP(2,1/(FMS!$B$5:$B$500=$A20),FMS!$L$5:$L$500),""))
A21: =IF(Roster!B21="","",Roster!B21) | B21: =IF($A21="","",IFERROR(INDEX(Roster!$C$5:$C$500,MATCH($A21,Roster!$B$5:$B$500,0)),"")) | C21: =IF($A21="","",IFERROR(LOOKUP(2,1/('Force Plate'!$B$5:$B$500=$A21),'Force Plate'!$D$5:$D$500),"")) | D21: =IF($A21="","",IFERROR(INDEX('Force Plate'!$D$5:$D$500,MATCH($A21,'Force Plate'!$B$5:$B$500,0)),"")) | E21: =IFERROR((C21-D21)/D21,"") | F21: =IF($A21="","",IFERROR(_xludf.MAXIFS('Force Plate'!$D$5:$D$500,'Force Plate'!$B$5:$B$500,$A21),"")) | G21: =IF($A21="","",IFERROR(LOOKUP(2,1/('Force Plate'!$B$5:$B$500=$A21),'Force Plate'!$E$5:$E$500),"")) | H21: =IF($A21="","",IFERROR(LOOKUP(2,1/('Force Plate'!$B$5:$B$500=$A21),'Force Plate'!$F$5:$F$500),"")) | I21: =IF($A21="","",IFERROR(LOOKUP(2,1/('Force Plate'!$B$5:$B$500=$A21),'Force Plate'!$I$5:$I$500),"")) | J21: =IF($A21="","",IFERROR(LOOKUP(2,1/('Timing Gates'!$B$5:$B$500=$A21),'Timing Gates'!$C$5:$C$500),"")) | K21: =IF($A21="","",IFERROR(LOOKUP(2,1/('Timing Gates'!$B$5:$B$500=$A21),'Timing Gates'!$D$5:$D$500),"")) | L21: =IF($A21="","",IFERROR(INDEX('Timing Gates'!$D$5:$D$500,MATCH($A21,'Timing Gates'!$B$5:$B$500,0)),"")) | M21: =IFERROR((L21-K21)/L21,"") | N21: =IF($A21="","",IFERROR(_xludf.MINIFS('Timing Gates'!$D$5:$D$500,'Timing Gates'!$B$5:$B$500,$A21),"")) | O21: =IF($A21="","",IFERROR(LOOKUP(2,1/(InBody!$B$5:$B$500=$A21),InBody!$C$5:$C$500),"")) | P21: =IF($A21="","",IFERROR(O21-INDEX(InBody!$C$5:$C$500,MATCH($A21,InBody!$B$5:$B$500,0)),"")) | Q21: =IF($A21="","",IFERROR(LOOKUP(2,1/(InBody!$B$5:$B$500=$A21),InBody!$E$5:$E$500),"")) | R21: =IF($A21="","",IFERROR(Q21-INDEX(InBody!$E$5:$E$500,MATCH($A21,InBody!$B$5:$B$500,0)),"")) | S21: =IF($A21="","",IFERROR(LOOKUP(2,1/(InBody!$B$5:$B$500=$A21),InBody!$F$5:$F$500),"")) | T21: =IF($A21="","",IFERROR(LOOKUP(2,1/(InBody!$B$5:$B$500=$A21),InBody!$D$5:$D$500),"")) | U21: =IF($A21="","",IFERROR(LOOKUP(2,1/(FMS!$B$5:$B$500=$A21),FMS!$K$5:$K$500),"")) | V21: =IF($A21="","",IFERROR(LOOKUP(2,1/(FMS!$B$5:$B$500=$A21),FMS!$J$5:$J$500),"")) | W21: =IF($A21="","",IFERROR(LOOKUP(2,1/(FMS!$B$5:$B$500=$A21),FMS!$L$5:$L$500),""))
A22: =IF(Roster!B22="","",Roster!B22) | B22: =IF($A22="","",IFERROR(INDEX(Roster!$C$5:$C$500,MATCH($A22,Roster!$B$5:$B$500,0)),"")) | C22: =IF($A22="","",IFERROR(LOOKUP(2,1/('Force Plate'!$B$5:$B$500=$A22),'Force Plate'!$D$5:$D$500),"")) | D22: =IF($A22="","",IFERROR(INDEX('Force Plate'!$D$5:$D$500,MATCH($A22,'Force Plate'!$B$5:$B$500,0)),"")) | E22: =IFERROR((C22-D22)/D22,"") | F22: =IF($A22="","",IFERROR(_xludf.MAXIFS('Force Plate'!$D$5:$D$500,'Force Plate'!$B$5:$B$500,$A22),"")) | G22: =IF($A22="","",IFERROR(LOOKUP(2,1/('Force Plate'!$B$5:$B$500=$A22),'Force Plate'!$E$5:$E$500),"")) | H22: =IF($A22="","",IFERROR(LOOKUP(2,1/('Force Plate'!$B$5:$B$500=$A22),'Force Plate'!$F$5:$F$500),"")) | I22: =IF($A22="","",IFERROR(LOOKUP(2,1/('Force Plate'!$B$5:$B$500=$A22),'Force Plate'!$I$5:$I$500),"")) | J22: =IF($A22="","",IFERROR(LOOKUP(2,1/('Timing Gates'!$B$5:$B$500=$A22),'Timing Gates'!$C$5:$C$500),"")) | K22: =IF($A22="","",IFERROR(LOOKUP(2,1/('Timing Gates'!$B$5:$B$500=$A22),'Timing Gates'!$D$5:$D$500),"")) | L22: =IF($A22="","",IFERROR(INDEX('Timing Gates'!$D$5:$D$500,MATCH($A22,'Timing Gates'!$B$5:$B$500,0)),"")) | M22: =IFERROR((L22-K22)/L22,"") | N22: =IF($A22="","",IFERROR(_xludf.MINIFS('Timing Gates'!$D$5:$D$500,'Timing Gates'!$B$5:$B$500,$A22),"")) | O22: =IF($A22="","",IFERROR(LOOKUP(2,1/(InBody!$B$5:$B$500=$A22),InBody!$C$5:$C$500),"")) | P22: =IF($A22="","",IFERROR(O22-INDEX(InBody!$C$5:$C$500,MATCH($A22,InBody!$B$5:$B$500,0)),"")) | Q22: =IF($A22="","",IFERROR(LOOKUP(2,1/(InBody!$B$5:$B$500=$A22),InBody!$E$5:$E$500),"")) | R22: =IF($A22="","",IFERROR(Q22-INDEX(InBody!$E$5:$E$500,MATCH($A22,InBody!$B$5:$B$500,0)),"")) | S22: =IF($A22="","",IFERROR(LOOKUP(2,1/(InBody!$B$5:$B$500=$A22),InBody!$F$5:$F$500),"")) | T22: =IF($A22="","",IFERROR(LOOKUP(2,1/(InBody!$B$5:$B$500=$A22),InBody!$D$5:$D$500),"")) | U22: =IF($A22="","",IFERROR(LOOKUP(2,1/(FMS!$B$5:$B$500=$A22),FMS!$K$5:$K$500),"")) | V22: =IF($A22="","",IFERROR(LOOKUP(2,1/(FMS!$B$5:$B$500=$A22),FMS!$J$5:$J$500),"")) | W22: =IF($A22="","",IFERROR(LOOKUP(2,1/(FMS!$B$5:$B$500=$A22),FMS!$L$5:$L$500),""))
